BEGIN:VCALENDAR
PRODID:-//Visit Evesham//Events//EN
VERSION:2.0
CALSCALE:GREGORIAN
METHOD:PUBLISH
BEGIN:VEVENT
UID:4500@www.visitevesham.co.uk
SUMMARY:Fleecey Folk: Kim Carnie
DTSTART:20260525T190000Z
DTEND:20260525T190000Z
LOCATION:The Fleece Inn Barn\, WR11 7JE
DESCRIPTION:Celebrated for her “velvet-voiced authority” (The Scotsman)\, Carnie blends traditional Gaelic roots with cinematic\, contemporary soundscapes. One of Scotland’s most compelling musical voices\, performing with her own band\, as well as the lead singer of the multi-award-winning band Mànran and a founding member of the experimental folk ensemble Staran. Kim’s voice has captivated audiences worldwide—on [&hellip\;]\n\nMore info: https://www.tickettailor.com/events/fleeceinngrasroots/1914605
URL:https://www.visitevesham.co.uk/event/fleecey-folk-kim-carnie/
END:VEVENT
END:VCALENDAR
