BEGIN:VCALENDAR
PRODID:-//Visit Evesham//Events//EN
VERSION:2.0
CALSCALE:GREGORIAN
METHOD:PUBLISH
BEGIN:VEVENT
UID:4714@www.visitevesham.co.uk
SUMMARY:Summer Solstice Walk in partnership with Regatta Outdoors
DTSTART:20260621T030000Z
DTEND:20260621T030000Z
LOCATION:The Valley\, Evesham WR11 4DS
DESCRIPTION:Join us on Saturday 21st June on the longest day of the year in welcoming the daybreak as we witness the sun ascend over the vale.\n\nMore info: https://www.thevalleyshopping.co.uk/whatson
URL:https://www.visitevesham.co.uk/event/summer-solstice-walk-in-partnership-with-regatta-outdoors/
END:VEVENT
END:VCALENDAR
