BEGIN:VCALENDAR
PRODID:-//Visit Evesham//Events//EN
VERSION:2.0
CALSCALE:GREGORIAN
METHOD:PUBLISH
BEGIN:VEVENT
UID:4754@www.visitevesham.co.uk
SUMMARY:Evesham Music Festival 2026
DTSTART:20260530T110000Z
DTEND:20260530T110000Z
LOCATION:Evesham Football Club\, Cheltenham Rd\, Evesham\, WR11 2LZ
DESCRIPTION:🎉 EVESHAM MUSIC FESTIVAL 2026 🎉 &nbsp\; 🔥 SIGN UP FOR FIRST PRIORITY DISCOUNTED TICKETS 🔥 &nbsp\; 🎫 TICKETS RELEASE: 27TH FEBRUARY – 9AM 🎟️ SIGN UP NOW FOR FIRST ACCESS &nbsp\; After the incredible fireworks and atmosphere in 2024\, we’ve been asked multiple times to return — and we’re back bigger and better for [&hellip\;]\n\nMore info: https://www.skiddle.com/e/42082156
URL:https://www.visitevesham.co.uk/event/evesham-music-festival-2026/
END:VEVENT
END:VCALENDAR
