BEGIN:VCALENDAR
PRODID:-//Visit Evesham//Events//EN
VERSION:2.0
CALSCALE:GREGORIAN
METHOD:PUBLISH
BEGIN:VEVENT
UID:4765@www.visitevesham.co.uk
SUMMARY:The Valley Summer Solstice Walk in partnership with Regatta Outdoors
DTSTART:20260621T032000Z
DTEND:20260621T032000Z
LOCATION:The Valley Evesham WR11 4DS
DESCRIPTION:A tradition steeped in history\, the Summer Solstice is observed uniquely across various cultures and nations. We are hosting our annual celebration to honour our neighbouring New Farm Nature Reserve and enchanting Sanctum Sculpture. Join us on Sunday 21st June on the longest day of the year in welcoming the daybreak as we witness the [&hellip\;]\n\nMore info: https://www.thevalleyshopping.co.uk/whatson/summer-solstice-sdxsl
URL:https://www.visitevesham.co.uk/event/the-valley-summer-solstice-walk-in-partnership-with-regatta-outdoors/
END:VEVENT
END:VCALENDAR
