BEGIN:VCALENDAR
PRODID:-//Visit Evesham//Events//EN
VERSION:2.0
CALSCALE:GREGORIAN
METHOD:PUBLISH
BEGIN:VEVENT
UID:4811@www.visitevesham.co.uk
SUMMARY:Fleecey Folk: Ruth Eliza
DTSTART:20260428T190000Z
DTEND:20260428T190000Z
LOCATION:The Fleece Inn\, WR11 7JE
DESCRIPTION:Ruth Eliza is a clawhammer banjo player and singer-songwriter\, joined for her album launch tour with Matthew Ord &amp\; Tom Kimber. &nbsp\; Drawing on her love of old-time Appalachian folk music and contemporary Bluegrass and Americana\, she creates a fresh take on Anglo-Folk-Americana. Her delivery of open\, honest and raw yet well-arranged songs and tunes\, [&hellip\;]\n\nMore info: https://www.tickettailor.com/events/fleeceinngrasroots/2068545
URL:https://www.visitevesham.co.uk/event/fleecey-folk-ruth-eliza/
END:VEVENT
END:VCALENDAR
