BEGIN:VCALENDAR
PRODID:-//Visit Evesham//Events//EN
VERSION:2.0
CALSCALE:GREGORIAN
METHOD:PUBLISH
BEGIN:VEVENT
UID:4835@www.visitevesham.co.uk
SUMMARY:‘Richard III – Bones Beneath the Car Park’ with Dave Andrews
DTSTART:20260617
DTEND:20260618
LOCATION:Evesham. Rowing Club\, Abbey Road WR11 4ST
DESCRIPTION:The story of the discovery of the bones of England’s last Plantagenet King under a car park in Leicester gained world-wide interest. With his background in Medieval History\, journalist Dave Andrews was in a great position to cover the story for BBC Leicester. During the whole period\, from the inception of the project\, through to [&hellip\;]\n\nMore info: https://www.eveshamfestivalofwords.org
URL:https://www.visitevesham.co.uk/event/richard-iii-bones-beneath-the-car-park-with-dave-andrews-2/
END:VEVENT
END:VCALENDAR
