BEGIN:VCALENDAR
PRODID:-//Visit Evesham//Events//EN
VERSION:2.0
CALSCALE:GREGORIAN
METHOD:PUBLISH
BEGIN:VEVENT
UID:4838@www.visitevesham.co.uk
SUMMARY:An Afternoon with Gardening Expert\, Reg Moule
DTSTART:20260618T130000Z
DTEND:20260618T130000Z
LOCATION:Cleeve Prior Field Barn\, WR11 8JX
DESCRIPTION:Reg Moule comes from a family that has been involved in horticulture for several generations. Since leaving Pershore College of Horticulture\, he has spent more than 35 years working as a nursery/garden centre manager. During this time Reg has been a regular speaker\, a contributor to various gardening magazines and The Pershore Times\, as well [&hellip\;]\n\nMore info: https://www.eveshamfestivalofwords.org
URL:https://www.visitevesham.co.uk/event/an-afternoon-with-gardening-expert-reg-moule/
END:VEVENT
END:VCALENDAR
