BEGIN:VCALENDAR
PRODID:-//Visit Evesham//Events//EN
VERSION:2.0
CALSCALE:GREGORIAN
METHOD:PUBLISH
BEGIN:VEVENT
UID:4845@www.visitevesham.co.uk
SUMMARY:Secrets of the Tower
DTSTART:20260621T093000Z
DTEND:20260621T093000Z
LOCATION:Evesham Abbey Bell Tower
DESCRIPTION:This is a unique opportunity to go inside Evesham’s iconic Bell Tower to visit the first floor Ringing Chamber. Considered one of England’s finest medieval belfries and described by the historian James Lees-Milne as “one of the nation’s architectural treasures”\, the Tower was the last part of Evesham Abbey to be built (around 1530) and [&hellip\;]\n\nMore info: https://www.eveshamfestivalofwords.org
URL:https://www.visitevesham.co.uk/event/secrets-of-the-tower/
END:VEVENT
END:VCALENDAR
