BEGIN:VCALENDAR
PRODID:-//Visit Evesham//Events//EN
VERSION:2.0
CALSCALE:GREGORIAN
METHOD:PUBLISH
BEGIN:VEVENT
UID:4870@www.visitevesham.co.uk
SUMMARY:An evening with Abbie Cooke
DTSTART:20260628T180000Z
DTEND:20260627T180000Z
LOCATION:Evesham Rowing Club\, Abbey Road\, WR11 4ST
DESCRIPTION:Abbie Cooke has had a rich and varied career. She has a degree in the History of Art and Design\, among other qualifications. She went to the Royal Military Academy Sandhurst and became a Captain in the Territorial Army’s Royal Mercian and Lancastrian Yeomanry. Early in her career she worked in marketing financial services to [&hellip\;]\n\nMore info: https://www.eveshamfestivalofwords.org
URL:https://www.visitevesham.co.uk/event/an-evening-with-abbie-cooke/
END:VEVENT
END:VCALENDAR
