BEGIN:VCALENDAR
PRODID:-//Visit Evesham//Events//EN
VERSION:2.0
CALSCALE:GREGORIAN
METHOD:PUBLISH
BEGIN:VEVENT
UID:4877@www.visitevesham.co.uk
SUMMARY:An Afternoon with AJ Pearce
DTSTART:20260628T130000Z
DTEND:20260628T130000Z
LOCATION:Ecgwins Club\, 117 High Street  Evesham WR11 4EQ
DESCRIPTION:Join us for a chat with author AJ Pearce\, as she talks about her books and her writing success. AJ’s favourite subjects at school were English and History\, both of which are reflected in her books. Her debut novel\, Dear Mrs Bird\, was a Sunday Times Bestseller and Richard &amp\; Judy Book Club Pick\, featuring [&hellip\;]\n\nMore info: https://www.eveshamfestivalofwords.org
URL:https://www.visitevesham.co.uk/event/an-afternoon-with-aj-pearce/
END:VEVENT
END:VCALENDAR
