BEGIN:VCALENDAR
PRODID:-//Visit Evesham//Events//EN
VERSION:2.0
CALSCALE:GREGORIAN
METHOD:PUBLISH
BEGIN:VEVENT
UID:4880@www.visitevesham.co.uk
SUMMARY:Through the Lens of a Royal Photographer
DTSTART:20260628T180000Z
DTEND:20260628T180000Z
LOCATION:The Henrician\, Victoria Avenue\,  Evesham WR11 4QH
DESCRIPTION:Multi-award winning photographer\, Jack Boskett\, is set to captivate audiences with his presentation\, ‘Through the Lens of a Royal Photographer’. He delves into the narratives behind his photographs\, offering a unique glimpse into some truly captivating moments. His extensive portfolio includes his experiences as an official photographer during the solemn occasion of Queen Elizabeth II’s [&hellip\;]\n\nMore info: http://www.henrician.org
URL:https://www.visitevesham.co.uk/event/through-the-lens-of-a-royal-photographer/
END:VEVENT
END:VCALENDAR
