BEGIN:VCALENDAR
PRODID:-//Visit Evesham//Events//EN
VERSION:2.0
CALSCALE:GREGORIAN
METHOD:PUBLISH
BEGIN:VEVENT
UID:4958@www.visitevesham.co.uk
SUMMARY:April Sunday Ramble
DTSTART:20260426T090000Z
DTEND:20260426T090000Z
LOCATION:Newent 
DESCRIPTION:Leader: Janet and Michael Area: Circular walk from Newent taking in May Hill Start: 10.00 am Distance: 10 miles Terrain: Varied terrain – woodland\, farmland\, May Hill\, tracks\, some quiet roads. (There may be more road walking if the ground is very wet underfoot) Lunch: approx 12:30 p.m. Picnic Description: “Varied walk\, hopefully something of [&hellip\;]\n\nMore info: https://eveshamramblingclub.org.uk/ramble/apr-sunday-ramble-2-2/
URL:https://www.visitevesham.co.uk/event/april-sunday-ramble/
END:VEVENT
END:VCALENDAR
