BEGIN:VCALENDAR
PRODID:-//Visit Evesham//Events//EN
VERSION:2.0
CALSCALE:GREGORIAN
METHOD:PUBLISH
BEGIN:VEVENT
UID:4964@www.visitevesham.co.uk
SUMMARY:Motown Party Night
DTSTART:20260508T180000Z
DTEND:20260508T180000Z
LOCATION: The Vale Golf Club\, Hill Furze Road\, Bishampton\, Pershore\, Worcestershire\, WR10 2LZ
DESCRIPTION:Motown Party Night 🪩 Friday 8th May | 7.00pm | £25 per person &nbsp\; Join us for a Motown Party Night this May! 🎉🎶 This event will include: 🥂 Arrival drink 🎉 A fantastic Motown themed night 🎵 DJ playing all the Motown classics to keep you dancing 🍽 A delicious buffet Event details: 📅 [&hellip\;]\n\nMore info: https://thevaleworcestershire.co.uk/upcoming-events/motown-party-night/
URL:https://www.visitevesham.co.uk/event/motown-party-night/
END:VEVENT
END:VCALENDAR
