BEGIN:VCALENDAR
PRODID:-//Visit Evesham//Events//EN
VERSION:2.0
CALSCALE:GREGORIAN
METHOD:PUBLISH
BEGIN:VEVENT
UID:5010@www.visitevesham.co.uk
SUMMARY:An Honest Politician
DTSTART:20260424T180000Z
DTEND:20260424T180000Z
LOCATION:The Lifford Hall Broadway
DESCRIPTION:A brilliantly witty one-man play by West End playwright Caroline Summerfield\, performed by award-winning actor Bill Cronshaw\, followed by a Q&amp\;A. Laughter is good for the soul! Come and hear the outrageous eighteenth-century diary of John Wilkes\, who is travelling the country to prove that honest politicians really do exist. Who cares that he has [&hellip\;]\n\nMore info: https://www.broadwaymuseum.org.uk/product/an-honest-politician/
URL:https://www.visitevesham.co.uk/event/an-honest-politician/
END:VEVENT
END:VCALENDAR
