BEGIN:VCALENDAR
PRODID:-//Visit Evesham//Events//EN
VERSION:2.0
CALSCALE:GREGORIAN
METHOD:PUBLISH
BEGIN:VEVENT
UID:5019@www.visitevesham.co.uk
SUMMARY:Evesham Ramblers Walks: Laverton\, Snowshill\, Buckland and bluebells
DTSTART:20260426T090000Z
DTEND:20260426T090000Z
LOCATION:Warren Lane
DESCRIPTION:This is a hilly walk through beautiful countryside. We start in Laverton\, climbing steadily uphill\, passing alongside and through some woods on the way to Snowshill. We walk through Snowshill on some quiet roads before returning through Buckland Wood and the village of Buckland again on quiet roads returning back to Buckland. Likely to be [&hellip\;]\n\nMore info: https://www.eveshamramblers.org.uk/walks/walks-programme.html
URL:https://www.visitevesham.co.uk/event/evesham-ramblers-walks-laverton-snowshill-buckland-and-bluebells-2/
END:VEVENT
END:VCALENDAR
