BEGIN:VCALENDAR
PRODID:-//Visit Evesham//Events//EN
VERSION:2.0
CALSCALE:GREGORIAN
METHOD:PUBLISH
BEGIN:VEVENT
UID:5021@www.visitevesham.co.uk
SUMMARY:Evesham Ramblers Walks: Evening Walk & Meal: The Fish & Anchor\, Offenham
DTSTART:20260429T170000Z
DTEND:20260429T170000Z
LOCATION:Park and meet at The Fish & Anchor Inn\, Offenham\, WR11 8QT.
DESCRIPTION:Starting from The Fish and Anchor at Offenham we plan a short 4 mile walk round The Littletons and Offenham to be followed by an optional meal (booked for 8:00 pm) at the pub afterwards. It is easy walking on good paths and tracks\, no stiles and with one short climb and descent\, but pretty [&hellip\;]
URL:https://www.visitevesham.co.uk/event/evesham-ramblers-walks-evening-walk-meal-the-fish-anchor-offenham/
END:VEVENT
END:VCALENDAR
