BEGIN:VCALENDAR
PRODID:-//Visit Evesham//Events//EN
VERSION:2.0
CALSCALE:GREGORIAN
METHOD:PUBLISH
BEGIN:VEVENT
UID:5025@www.visitevesham.co.uk
SUMMARY:The Evesham Town 10k Run
DTSTART:20260705T083000Z
DTEND:20260705T083000Z
LOCATION:Crown Meadow\, Evesham
DESCRIPTION:The Evesham Celebrating 19 years of Evesham Vale Running Club&#8217\;s Evesham Town 10K. An accurate chip timed route around the streets\, parks and riverside paths of historic and beautiful Evesham in Worcestershire. The course has some unsealed sections but is suitable for ordinary running shoes. Entry Prices ** Early Bird offer first 100 entries\, £23.00 [&hellip\;]\n\nMore info: https://www.entrycentral.com/event/104797?fbclid=IwVERDUAQ_GUhleHRuA2FlbQIxMABzcnRjBmFwcF9pZAwzNTA2ODU1MzE3MjgAAR4O8tqGbwy_-dJ2hk-BBBYvuVruHCx_nDIC5NhscBYMyl_Ihhuownn3ZorCWA_aem_L9NPsma9VoPGaHV0Wr_fVg
URL:https://www.visitevesham.co.uk/event/the-evesham-town-10k-run/
END:VEVENT
END:VCALENDAR
