BEGIN:VCALENDAR
PRODID:-//Visit Evesham//Events//EN
VERSION:2.0
CALSCALE:GREGORIAN
METHOD:PUBLISH
BEGIN:VEVENT
UID:5027@www.visitevesham.co.uk
SUMMARY:Evesham Walking Festival: Broadway
DTSTART:20260624T080000Z
DTEND:20260624T080000Z
LOCATION:Milestone Ground Car Park Childswickham Road Broadway
DESCRIPTION:Broadway Steam Mileage: 10 miles Grade: Strenuous Maximum walkers: 20 Refreshments: Available at Winchcombe and Broadway stations. Please bring a packed lunch. Child friendly: No Dog friendly: No Information: Toilets available at the beginning and end of the walk. Car parking charges apply. Description: The walk incorporates a steam locomotive trip on the Gloucestershire Warwickshire [&hellip\;]\n\nMore info: https://www.eveshamwalkfest.org.uk/events/ewf-1/
URL:https://www.visitevesham.co.uk/event/evesham-walking-festival-broadway/
END:VEVENT
END:VCALENDAR
