BEGIN:VCALENDAR
PRODID:-//Visit Evesham//Events//EN
VERSION:2.0
CALSCALE:GREGORIAN
METHOD:PUBLISH
BEGIN:VEVENT
UID:5031@www.visitevesham.co.uk
SUMMARY:Evesham Walking Festival: Blockley
DTSTART:20260624T090000Z
DTEND:20260624T090000Z
LOCATION:St Georges Hall car park Park Road Blockley
DESCRIPTION:Every Walker’s Dream Mileage: 5 miles Grade: Easy Maximum walkers: 25 Refreshments: Towards the end of the walk there is a village shop and café. Please bring a snack / drink as we will have a short break halfway round. Child friendly: No Dog friendly: No Information: Please park considerately in St George’s Hall car [&hellip\;]\n\nMore info: https://www.eveshamwalkfest.org.uk/events/ewf-3/
URL:https://www.visitevesham.co.uk/event/evesham-walking-festival-blockley/
END:VEVENT
END:VCALENDAR
