BEGIN:VCALENDAR
PRODID:-//Visit Evesham//Events//EN
VERSION:2.0
CALSCALE:GREGORIAN
METHOD:PUBLISH
BEGIN:VEVENT
UID:5074@www.visitevesham.co.uk
SUMMARY:A Day in the Wild with Ray Mears
DTSTART:20260516T083000Z
DTEND:20260516T083000Z
LOCATION:Fish and Anchor Crossing\, Offenham\, Evesham WR11 8QT
DESCRIPTION:A Day in the Wild with Ray Mears! &nbsp\; We are pleased to share details of a rare opportunity to spend a day with world‑renowned woodsman\, author\, and broadcaster Ray Mears at Offenham Touring Park &nbsp\; Best known for his pioneering work in bushcraft and outdoor education\, Ray Mears has inspired audiences for decades through [&hellip\;]\n\nMore info: https://www.eventbrite.co.uk/e/a-day-in-the-wild-with-ray-mears-tickets-1987333548140?aff=oddtdtcreator
URL:https://www.visitevesham.co.uk/event/a-day-in-the-wild-with-ray-mears/
END:VEVENT
END:VCALENDAR
