BEGIN:VCALENDAR
PRODID:-//Visit Evesham//Events//EN
VERSION:2.0
CALSCALE:GREGORIAN
METHOD:PUBLISH
BEGIN:VEVENT
UID:5092@www.visitevesham.co.uk
SUMMARY:Tee Off into the Evening – Adventure Golf After Hours
DTSTART:20260627T090000Z
DTEND:20260627T090000Z
LOCATION:Aztec Adventure The Lost Valley\, The Valley Evesham\, Evesham\, Worcestershire. WR11 4DS.
DESCRIPTION:We&#8217\;re excited to be trialling evening sessions at our Adventure Golf course this spring and summer &#8211\; a brilliant new way to enjoy one of the best family activities in Worcestershire. Join us during this special late opening and enjoy the course in a whole new light: Saturday 27th June: 10am-7pm* *Last entry at the [&hellip\;]\n\nMore info: https://aztecadventure.co.uk/activities/adventure-golf
URL:https://www.visitevesham.co.uk/event/tee-off-into-the-evening-adventure-golf-after-hours-2/
END:VEVENT
END:VCALENDAR
