BEGIN:VCALENDAR
PRODID:-//Visit Evesham//Events//EN
VERSION:2.0
CALSCALE:GREGORIAN
METHOD:PUBLISH
BEGIN:VEVENT
UID:5111@www.visitevesham.co.uk
SUMMARY:A Taste of Greece
DTSTART:20260501T170000Z
DTEND:20260501T170000Z
LOCATION:29 High Street\, Badsey\, WR11 7EJ
DESCRIPTION:A Taste of Greece &nbsp\; Let us take you on a small journey through the Greek mainland and surrounding islands. &nbsp\; Greek cuisine is loved not only across Europe\, but all around the world. Our carefully selected dishes are inspired by different regions and islands\, full of characteristic flavours like fresh lemon\, oregano\, and some [&hellip\;]
URL:https://www.visitevesham.co.uk/event/a-taste-of-greece/
END:VEVENT
END:VCALENDAR
